BEGIN:VCALENDAR
VERSION:2.0
PRODID:-//wp-events-plugin.com//7.2.3.1//EN
TZID:America/Toronto
X-WR-TIMEZONE:America/Toronto
BEGIN:VEVENT
UID:288@southnationarchery.com
DTSTART;TZID=America/Toronto:20130215T180000
DTEND;TZID=America/Toronto:20130215T190000
DTSTAMP:20121112T031432Z
URL:https://www.southnationarchery.com/events/youthbeginner6-session-2-201
 3-02-15/
SUMMARY:YouthBeginner6 - Session 2
DESCRIPTION:The next beginner youth class begins on January 11\, 2013.\n\nT
 he 6pm class caters to younger archers 10-14 years of age\; the 7pm Youth 
 Beginner Class caters to younger archers\, ages 6-10. \n\nTry to come to c
 lass #1 a little early so we can test eye dominance properly and assign eq
 uipment.  Make sure to bring indoor shoes and wear tight-fitting close acr
 oss the chest and arms.\n\nIf you have taken 2 or more classes with Kathy\
 , please contact her to see if you should be taking either adult beginner 
 or youth advanced.\n
CATEGORIES:Beginner youth
LOCATION:South Nation Archery Supply\, 11667 Holmes Rd.\, Winchester\, ON\,
  Canada\, K0C 2K0\, Canada
GEO:45.0538545;-75.3865227
X-APPLE-STRUCTURED-LOCATION;VALUE=URI;X-ADDRESS=11667 Holmes Rd.\, Winchest
 er\, ON\, Canada\, K0C 2K0\, Canada;X-APPLE-RADIUS=100;X-TITLE=South Natio
 n Archery Supply:geo:45.0538545,-75.3865227
END:VEVENT
BEGIN:VTIMEZONE
TZID:America/Toronto
X-LIC-LOCATION:America/Toronto
BEGIN:STANDARD
DTSTART:20121104T010000
TZOFFSETFROM:-0400
TZOFFSETTO:-0500
TZNAME:EST
END:STANDARD
END:VTIMEZONE
END:VCALENDAR