BEGIN:VCALENDAR
VERSION:2.0
PRODID:-//wp-events-plugin.com//7.2.3.1//EN
TZID:America/Toronto
X-WR-TIMEZONE:America/Toronto
BEGIN:VEVENT
UID:600@southnationarchery.com
DTSTART;TZID=America/Toronto:20130424T180000
DTEND;TZID=America/Toronto:20130424T190000
DTSTAMP:20130411T030836Z
URL:https://www.southnationarchery.com/events/youthadvanced6-session-4-201
 3-04-24/
SUMMARY:YouthAdvanced6 - Session 4
DESCRIPTION:Advanced Youth fees are $45.00 per person\; we offer family dis
 counts.  HST is not included.\n\nThis session prepares archers to shoot o
 utdoors at longer distances and have some fun while we wait for spring and
  warmer air.  The goal is to shoot the last 3 weeks of classes outdoors a
 t the standard CDN 900 Round distances.\n\nNote:  We will pause one week\
 , the Wednesday before Victoria Day\, in order for Kathy to coach at the O
 ntario High School Archery Championships.  May 29th is the make-up class.
   Thank you.
CATEGORIES:Advanced youth
LOCATION:South Nation Archery Supply\, 11667 Holmes Rd.\, Winchester\, ON\,
  Canada\, K0C 2K0\, Canada
GEO:45.0538545;-75.3865227
X-APPLE-STRUCTURED-LOCATION;VALUE=URI;X-ADDRESS=11667 Holmes Rd.\, Winchest
 er\, ON\, Canada\, K0C 2K0\, Canada;X-APPLE-RADIUS=100;X-TITLE=South Natio
 n Archery Supply:geo:45.0538545,-75.3865227
END:VEVENT
BEGIN:VTIMEZONE
TZID:America/Toronto
X-LIC-LOCATION:America/Toronto
BEGIN:DAYLIGHT
DTSTART:20130310T030000
TZOFFSETFROM:-0500
TZOFFSETTO:-0400
TZNAME:EDT
END:DAYLIGHT
END:VTIMEZONE
END:VCALENDAR