BEGIN:VCALENDAR
VERSION:2.0
PRODID:-//wp-events-plugin.com//7.2.3.1//EN
TZID:America/Toronto
X-WR-TIMEZONE:America/Toronto
BEGIN:VEVENT
UID:470@southnationarchery.com
DTSTART;TZID=America/Toronto:20130123T180000
DTEND;TZID=America/Toronto:20130123T190000
DTSTAMP:20130117T182414Z
URL:https://www.southnationarchery.com/events/youthadvanced6-session-2-201
 3-01-23/
SUMMARY:YouthAdvanced6 - Session 2
DESCRIPTION:SCHEDULE FOR YOUTH ADVANCED CLASSES 2013\n\nJanuary 09    
   Review of Form Analysis - Picking up the pieces\n\nFeeling the string s
 ide line up\n\nFinish sheet - no scoring\n\nJanuary 16      Passive A
 iming &amp\; the Importance of Follow-through\n\nmailmatch #1 - 15 arrows\
 n\nJanuary 23      Tournament Prep:  Sleep\, Diet\, Attitude\n\nmail
 match #1 - 15 arrows\n\nNutrition Challenge begins!\n\nJanuary 30    
   Imagery &amp\; Tension - Nutrition Challenge ends!\n\nmailmatch #2 - 15
  arrows\n\nBreathing and tension release\n\nFebruary 06    Video-taping
  session for reinforcing form\n\nmailmatch #2 - 15 arrows\n\nFebruary 13 
    Keeping your mind occupied on the line\n\nmailmatch #3 - 15 arrows\n\
 nDistraction Night\n\nAdvanced Youth fees are $45.00 per person\; we offer
  family discounts. HST is not included.
CATEGORIES:Advanced youth
LOCATION:South Nation Archery Supply\, 11667 Holmes Rd.\, Winchester\, ON\,
  Canada\, K0C 2K0\, Canada
GEO:45.0538545;-75.3865227
X-APPLE-STRUCTURED-LOCATION;VALUE=URI;X-ADDRESS=11667 Holmes Rd.\, Winchest
 er\, ON\, Canada\, K0C 2K0\, Canada;X-APPLE-RADIUS=100;X-TITLE=South Natio
 n Archery Supply:geo:45.0538545,-75.3865227
END:VEVENT
BEGIN:VTIMEZONE
TZID:America/Toronto
X-LIC-LOCATION:America/Toronto
BEGIN:STANDARD
DTSTART:20121104T010000
TZOFFSETFROM:-0400
TZOFFSETTO:-0500
TZNAME:EST
END:STANDARD
END:VTIMEZONE
END:VCALENDAR