BEGIN:VCALENDAR
VERSION:2.0
PRODID:-//wp-events-plugin.com//7.2.3.1//EN
TZID:America/Toronto
X-WR-TIMEZONE:America/Toronto
BEGIN:VEVENT
UID:4184@southnationarchery.com
DTSTART;TZID=America/Toronto:20220313T100000
DTEND;TZID=America/Toronto:20220313T180000
DTSTAMP:20220226T141725Z
URL:https://www.southnationarchery.com/events/snac-annual-march-wa18-tourn
 ament-2022-re-scheduled-january-event/
SUMMARY:SNAC Annual MARCH WA18 Tournament 2022 RE-SCHEDULED January event
DESCRIPTION:We are pleased to return to our regular indoor competitive prog
 ramme since the COVID-19 lock-down.  However\, we had to postpone the Jan
 uary 16th event.  We have re-sanctioned it for Sunday\, March 13.\n\nRegu
 lar WA18 internationally/nationally registered tournaments will run on:\n\
 nSunday\, MARCH 13 - 2 shooting lines at 10am &amp\; 2pm\n\nParticipants M
 UST:\n\n\n\n 	Pre-register (compulsory)\n 	wear a mask when not on the sho
 oting line\n\nContact Kathy Millar at info@southnationarchery.com to hold 
 your spot / get more details.\n\nWe look forward to seeing everyone again!
 \n\n&nbsp\;
CATEGORIES:Advanced adult,Advanced youth,Event
LOCATION:South Nation Archery Supply\, 11667 Holmes Rd.\, Winchester\, ON\,
  Canada\, K0C 2K0\, Canada
GEO:45.0538545;-75.3865227
X-APPLE-STRUCTURED-LOCATION;VALUE=URI;X-ADDRESS=11667 Holmes Rd.\, Winchest
 er\, ON\, Canada\, K0C 2K0\, Canada;X-APPLE-RADIUS=100;X-TITLE=South Natio
 n Archery Supply:geo:45.0538545,-75.3865227
END:VEVENT
BEGIN:VTIMEZONE
TZID:America/Toronto
X-LIC-LOCATION:America/Toronto
BEGIN:DAYLIGHT
DTSTART:20220313T030000
TZOFFSETFROM:-0500
TZOFFSETTO:-0400
TZNAME:EDT
END:DAYLIGHT
END:VTIMEZONE
END:VCALENDAR