BEGIN:VCALENDAR
VERSION:2.0
PRODID:-//wp-events-plugin.com//7.2.3.1//EN
TZID:America/Toronto
X-WR-TIMEZONE:America/Toronto
BEGIN:VEVENT
UID:4108@southnationarchery.com
DTSTART;TZID=America/Toronto:20220213T100000
DTEND;TZID=America/Toronto:20220213T180000
DTSTAMP:20220124T215815Z
URL:https://www.southnationarchery.com/events/snac-annual-february-wa18-to
 urnament-2022/
SUMMARY:SNAC Annual February WA18 Tournament 2022
DESCRIPTION:We are pleased to return to our regular indoor competitive prog
 ramme since the COVID-19 lock-down.\n\nRegular WA18 internationally/nation
 ally registered tournaments will run on:\n\nSunday\, February 13 - 2 shoot
 ing lines at 10am &amp\; 2pm\n\nSunday\, MARCH 13 - 2 shooting lines at 10
 am &amp\; 2pm\n\nSpecific Championships / Events for 2022:\n\nJanuary 30 -
  Ontario IFAA 5-spot Championship\n\nFebruary 21\, 23\, 24\, 25 &amp\; 27 
 - Ontario 10-ring Championship\n\nMarch 6 - National Regional Indoor Champ
 ionship\n\nMarch 20 - MICA Event\n\nDue to COVID-19 guidelines and our lim
 ited indoor shooting area\, participants MUST:\n\n\n\n 	pre-book at specif
 ic 1-hour day and time\n 	produce a valid COVID-19 Vaccine Passport on you
 r first round\n 	wear a mask when not on the shooting line\n\nPre-registra
 tion is compulsory.  Contact Kathy Millar at info@southnationarchery.com 
 to hold your spot / get more details.\nWe look forward to seeing everyone 
 again!\n
CATEGORIES:Advanced adult,Advanced youth,Event
LOCATION:South Nation Archery Supply\, 11667 Holmes Rd.\, Winchester\, ON\,
  Canada\, K0C 2K0\, Canada
GEO:45.0538545;-75.3865227
X-APPLE-STRUCTURED-LOCATION;VALUE=URI;X-ADDRESS=11667 Holmes Rd.\, Winchest
 er\, ON\, Canada\, K0C 2K0\, Canada;X-APPLE-RADIUS=100;X-TITLE=South Natio
 n Archery Supply:geo:45.0538545,-75.3865227
END:VEVENT
BEGIN:VTIMEZONE
TZID:America/Toronto
X-LIC-LOCATION:America/Toronto
BEGIN:STANDARD
DTSTART:20211107T010000
TZOFFSETFROM:-0400
TZOFFSETTO:-0500
TZNAME:EST
END:STANDARD
END:VTIMEZONE
END:VCALENDAR