BEGIN:VCALENDAR
VERSION:2.0
PRODID:-//wp-events-plugin.com//7.2.3.1//EN
TZID:America/Toronto
X-WR-TIMEZONE:America/Toronto
BEGIN:VEVENT
UID:4450@southnationarchery.com
DTSTART;TZID=America/Toronto:20230115T090000
DTEND;TZID=America/Toronto:20230115T160000
DTSTAMP:20230111T164928Z
URL:https://www.southnationarchery.com/events/january-2023-wa18-tournament
 /
SUMMARY:10AM LINE IS FULL January 2023 WA18 Tournament
DESCRIPTION:We have only 1-2 spots available on the 2pm line for this comin
 g Sunday's tournament.  If you wish to participate\, please contact Kathy
  Millar ASAP.  Thank you.\n\nThis tournament is registered for national a
 nd international awards and records.\n\nMorning line:  Official Practice 
 9am\; Scoring 10am\n\nAfternoon line:  Official Practice 9am\; Scoring 10
 am\n\nPre-registration is compulsory.  Space is limited.\n\nCost:  2022 
 tournament fees: $30. Ages 17 and under $20. (Prices subject to change)\n\
 nProvincial Champs:  $35. Ages 17 and under $25. (Prices subject to chang
 e)
CATEGORIES:Event
LOCATION:South Nation Archery Supply\, 11667 Holmes Rd.\, Winchester\, ON\,
  Canada\, K0C 2K0\, Canada
GEO:45.0538545;-75.3865227
X-APPLE-STRUCTURED-LOCATION;VALUE=URI;X-ADDRESS=11667 Holmes Rd.\, Winchest
 er\, ON\, Canada\, K0C 2K0\, Canada;X-APPLE-RADIUS=100;X-TITLE=South Natio
 n Archery Supply:geo:45.0538545,-75.3865227
END:VEVENT
BEGIN:VTIMEZONE
TZID:America/Toronto
X-LIC-LOCATION:America/Toronto
BEGIN:STANDARD
DTSTART:20221106T010000
TZOFFSETFROM:-0400
TZOFFSETTO:-0500
TZNAME:EST
END:STANDARD
END:VTIMEZONE
END:VCALENDAR