BEGIN:VCALENDAR
VERSION:2.0
PRODID:-//wp-events-plugin.com//7.2.3.1//EN
TZID:America/Toronto
X-WR-TIMEZONE:America/Toronto
BEGIN:VEVENT
UID:335@southnationarchery.com
DTSTART;TZID=America/Toronto:20130113T140000
DTEND;TZID=America/Toronto:20130113T170000
DTSTAMP:20130104T153332Z
URL:https://www.southnationarchery.com/events/jan-2013-fita18m-2pm/
SUMMARY:Jan. 2013 - FITA18M - 2pm
DESCRIPTION:Join us for this nationally-sanctioned indoor 60-arrow tourname
 nt.\n\nPre-register for either the 10am line or 2pm line. Official Practic
 e begins one hour prior to the starting time. If there is sufficient inter
 est\, a third line will be added at 6pm.\n\nFor 2012-2013: Adult tournamen
 t fees are $20\; 16-years and under fees are $10.
LOCATION:South Nation Archery Supply\, 11667 Holmes Rd.\, Winchester\, ON\,
  Canada\, K0C 2K0\, Canada
GEO:45.0538545;-75.3865227
X-APPLE-STRUCTURED-LOCATION;VALUE=URI;X-ADDRESS=11667 Holmes Rd.\, Winchest
 er\, ON\, Canada\, K0C 2K0\, Canada;X-APPLE-RADIUS=100;X-TITLE=South Natio
 n Archery Supply:geo:45.0538545,-75.3865227
END:VEVENT
BEGIN:VTIMEZONE
TZID:America/Toronto
X-LIC-LOCATION:America/Toronto
BEGIN:STANDARD
DTSTART:20121104T010000
TZOFFSETFROM:-0400
TZOFFSETTO:-0500
TZNAME:EST
END:STANDARD
END:VTIMEZONE
END:VCALENDAR