BEGIN:VCALENDAR
VERSION:2.0
PRODID:-//wp-events-plugin.com//7.2.3.1//EN
TZID:America/Toronto
X-WR-TIMEZONE:America/Toronto
BEGIN:VEVENT
UID:2832@southnationarchery.com
DTSTART;TZID=America/Toronto:20170705T180000
DTEND;TZID=America/Toronto:20170706T210000
DTSTAMP:20170613T183257Z
URL:https://www.southnationarchery.com/events/canadian-900-leagues-2017-20
 17-07-05/
SUMMARY:Canadian 900 Leagues 2017
DESCRIPTION:OUTDOOR TOURNAMENTS AND LEAGUES for recurve\, compound and bare
 bow archers\n\nCDN 900 leagues\n\nJoin us on Wednesday evenings\, and enjo
 y outdoor archery on a nice\, bigt 122cm target face.  Regardless of age 
 category\, we offer the senior round only:  55m\, 45m\, 35m.  If you can
 't reach all those distances\, then start later and shoot the distances yo
 u feel comfortable with (except on week 6 because it is a formal tournamen
 t).\n\nScoring beginning at 6pm (18:00) SHARP on:\n\nJune 07\, 14\, 21\, 2
 8\, July 05 and 12 (week 6 is a nationally-sanctioned tournament).\n\nCOST
 :  $8/person\n\nIf you have any questions\, please do not hesitate to tel
 ephone Kathy or Larry for further details.
CATEGORIES:Advanced adult,Advanced youth,Event
LOCATION:South Nation Archery Supply\, 11667 Holmes Rd.\, Winchester\, ON\,
  Canada\, K0C 2K0\, Canada
GEO:45.0538545;-75.3865227
X-APPLE-STRUCTURED-LOCATION;VALUE=URI;X-ADDRESS=11667 Holmes Rd.\, Winchest
 er\, ON\, Canada\, K0C 2K0\, Canada;X-APPLE-RADIUS=100;X-TITLE=South Natio
 n Archery Supply:geo:45.0538545,-75.3865227
END:VEVENT
BEGIN:VTIMEZONE
TZID:America/Toronto
X-LIC-LOCATION:America/Toronto
BEGIN:DAYLIGHT
DTSTART:20170312T030000
TZOFFSETFROM:-0500
TZOFFSETTO:-0400
TZNAME:EDT
END:DAYLIGHT
END:VTIMEZONE
END:VCALENDAR