BEGIN:VCALENDAR
VERSION:2.0
PRODID:-//wp-events-plugin.com//7.2.3.1//EN
TZID:America/Toronto
X-WR-TIMEZONE:America/Toronto
BEGIN:VEVENT
UID:5139@southnationarchery.com
DTSTART;TZID=America/Toronto:20260227T190000
DTEND;TZID=America/Toronto:20260404T200000
DTSTAMP:20260224T013132Z
URL:https://www.southnationarchery.com/events/by3-7-classes-for-beginner-y
 outh-ages-12-15-session-3-2026/
SUMMARY:NEW BA3-7 Classes for Teens and  Adults - Session #3 - 2026 FULL
DESCRIPTION:NOTE:  Due to increased demand for the adult beginner 8pm grou
 p lessons\, we have opened up this time slot for teens and adults.  If yo
 u wish to take advantage of the 7pm class\, contact us ASAP.  Thank you.
   2026-02-01\n\nDid your child/teenager ever express interest in trying a
 rchery\, but you were afraid you would have to buy the equipment first?  
 Our 6-week sessions are an ideal solution!  Come out for the first time\,
  or to brush up on your skills after time away from the sport.\n\nOur 7pm 
 Friday classes are geared to youth 12 - 15 years of age.  However\, older
  teenagers are welcomed also\, if the 8pm class does not work for your fam
 ily.\n\nThe one-hour per week classes include proper equipment selection\,
  warm-up exercises\, the basic elements of the Ten Steps to Good Shooting 
 and related safety rules.  Kathleen finishes each class with a fun activi
 ty to reinforce the lesson plan for that evening.\n\nSouth Nation Archery 
 supplies all the equipment.  Students need to wear snug-fitting clothing 
 on the upper body and must bring indoor shoes to wear during class.\n\nPre
 -payment is obligatory in order to hold your spot.  You will receive info
 rmation for e-transfers before the session starts.  You may telephone us 
 with your credit card information or stop by to pay with debit card\, cash
  or cheque.\n\nCost:  $85/student + HST\n\nStart Date:  Friday\, Februar
 y 27\, 2026
CATEGORIES:Beginner youth,Class
LOCATION:South Nation Archery Supply\, 11667 Holmes Rd.\, Winchester\, ON\,
  Canada\, K0C 2K0\, Canada
GEO:45.0538545;-75.3865227
X-APPLE-STRUCTURED-LOCATION;VALUE=URI;X-ADDRESS=11667 Holmes Rd.\, Winchest
 er\, ON\, Canada\, K0C 2K0\, Canada;X-APPLE-RADIUS=100;X-TITLE=South Natio
 n Archery Supply:geo:45.0538545,-75.3865227
END:VEVENT
BEGIN:VTIMEZONE
TZID:America/Toronto
X-LIC-LOCATION:America/Toronto
BEGIN:STANDARD
DTSTART:20251102T010000
TZOFFSETFROM:-0400
TZOFFSETTO:-0500
TZNAME:EST
END:STANDARD
BEGIN:DAYLIGHT
DTSTART:20260308T030000
TZOFFSETFROM:-0500
TZOFFSETTO:-0400
TZNAME:EDT
END:DAYLIGHT
END:VTIMEZONE
END:VCALENDAR