BEGIN:VCALENDAR
VERSION:2.0
PRODID:-//wp-events-plugin.com//7.2.3.1//EN
TZID:America/Toronto
X-WR-TIMEZONE:America/Toronto
BEGIN:VEVENT
UID:5111@southnationarchery.com
DTSTART;TZID=America/Toronto:20260109T180000
DTEND;TZID=America/Toronto:20260214T190000
DTSTAMP:20260202T170611Z
URL:https://www.southnationarchery.com/events/by2-6-classes-for-beginner-y
 outh-ages-09-11-session-2-2026/
SUMMARY:FULL BY2-6 Classes for Beginner Youth ages 09 - 11 - Session #2 - 2
 026
DESCRIPTION:Did your child ever express interest in trying archery\, but yo
 u were afraid you would have to buy the equipment first?  Our 6-week sess
 ions are an ideal solution!  Come out for the first time\, or to brush up
  on your skills after time away from the sport.\n\nOur 6pm Friday classes 
 are geared to youth 09 - 11 years of age.\n\nThe one-hour per week classes
  include proper equipment selection\, warm-up exercises\, the basic elemen
 ts of the Ten Steps to Good Shooting and related safety rules.  Kathleen 
 finishes each class with a fun activity to reinforce the lesson plan for t
 hat evening.\n\nSouth Nation Archery supplies all the equipment.  Student
 s need to wear snug-fitting clothing on the upper body and must bring indo
 or shoes to wear during class.\n\nPre-payment is obligatory in order to ho
 ld your spot.  You will receive information for e-transfers before the se
 ssion starts.  You may telephone us with your credit card information or 
 stop by to pay with debit card\, cash or cheque.\n\nCost:  $85/student + 
 HST\n\nStart Date:  Friday\, January 09\, 2026
CATEGORIES:Beginner youth,Class
LOCATION:South Nation Archery Supply\, 11667 Holmes Rd.\, Winchester\, ON\,
  Canada\, K0C 2K0\, Canada
GEO:45.0538545;-75.3865227
X-APPLE-STRUCTURED-LOCATION;VALUE=URI;X-ADDRESS=11667 Holmes Rd.\, Winchest
 er\, ON\, Canada\, K0C 2K0\, Canada;X-APPLE-RADIUS=100;X-TITLE=South Natio
 n Archery Supply:geo:45.0538545,-75.3865227
END:VEVENT
BEGIN:VTIMEZONE
TZID:America/Toronto
X-LIC-LOCATION:America/Toronto
BEGIN:STANDARD
DTSTART:20251102T010000
TZOFFSETFROM:-0400
TZOFFSETTO:-0500
TZNAME:EST
END:STANDARD
END:VTIMEZONE
END:VCALENDAR