BEGIN:VCALENDAR
VERSION:2.0
PRODID:-//wp-events-plugin.com//7.2.3.1//EN
TZID:America/Toronto
X-WR-TIMEZONE:America/Toronto
BEGIN:VEVENT
UID:5167@southnationarchery.com
DTSTART;TZID=America/Toronto:20260417T200000
DTEND;TZID=America/Toronto:20260523T210000
DTSTAMP:20260329T150703Z
URL:https://www.southnationarchery.com/events/ba4-8-classes-for-beginner-a
 dults-and-teenagers-session-4-2026-final-session/
SUMMARY:BA4-8 Classes for Beginner Adults and Teenagers Session #4 – 2026
  Final Session
DESCRIPTION:Did you want to try archery\, but you were afraid you would hav
 e to buy the equipment first?  Our 6-week sessions are an ideal solution!
   Come out for the first time\, or to brush up on your skills after time 
 away from the sport.\n\nOur 8pm Friday classes are geared to adults.  How
 ever\, older teenagers are welcomed also\, if the 7pm class does not work 
 for your family.\n\nThe one-hour per week classes include proper equipment
  selection\, warm-up exercises\, the basic elements of the Ten Steps to Go
 od Shooting and related safety rules.  Kathleen finishes each class with 
 a fun activity to reinforce the lesson plan for that evening.\n\nSouth Nat
 ion Archery supplies all the equipment.  Students need to wear snug-fitti
 ng clothing on the upper body and must bring indoor shoes to wear during c
 lass.\n\nPre-payment is obligatory in order to hold your spot.  You will 
 receive information for e-transfers before the session starts.  You may t
 elephone us with your credit card information or stop by to pay with debit
  card\, cash or cheque.\n\nCost:  $100/student + HST\n\nStart Date:  Fri
 day\, April 17\, 2026
CATEGORIES:Beginner adult,Beginner youth,Class,Intermediate adult and
 youth
LOCATION:South Nation Archery Supply\, 11667 Holmes Rd.\, Winchester\, ON\,
  Canada\, K0C 2K0\, Canada
GEO:45.0538545;-75.3865227
X-APPLE-STRUCTURED-LOCATION;VALUE=URI;X-ADDRESS=11667 Holmes Rd.\, Winchest
 er\, ON\, Canada\, K0C 2K0\, Canada;X-APPLE-RADIUS=100;X-TITLE=South Natio
 n Archery Supply:geo:45.0538545,-75.3865227
END:VEVENT
BEGIN:VTIMEZONE
TZID:America/Toronto
X-LIC-LOCATION:America/Toronto
BEGIN:DAYLIGHT
DTSTART:20260308T030000
TZOFFSETFROM:-0500
TZOFFSETTO:-0400
TZNAME:EDT
END:DAYLIGHT
END:VTIMEZONE
END:VCALENDAR