BEGIN:VCALENDAR
VERSION:2.0
PRODID:-//wp-events-plugin.com//7.2.3.1//EN
TZID:America/Toronto
X-WR-TIMEZONE:America/Toronto
BEGIN:VEVENT
UID:5146@southnationarchery.com
DTSTART;TZID=America/Toronto:20260227T200000
DTEND;TZID=America/Toronto:20260404T210000
DTSTAMP:20260202T170040Z
URL:https://www.southnationarchery.com/events/ba3-8-classes-for-beginner-a
 dults-and-teenagers-session-3-2026/
SUMMARY:FULL BA3-8 Classes for Beginner Adults and Teenagers Session #3 - 2
 026
DESCRIPTION:NOTE:  This class is booked fully\, however\, we have changed 
 the 7pm class to teen/adult.  If you wish to sign up for a 7pm class\, pl
 ease contact us. 2026-02-01\n\nDid you want to try archery\, but you were 
 afraid you would have to buy the equipment first?  Our 6-week sessions ar
 e an ideal solution!  Come out for the first time\, or to brush up on you
 r skills after time away from the sport.\n\nOur 8pm Friday classes are gea
 red to adults.  However\, older teenagers are welcomed also\, if the 7pm 
 class does not work for your family.\n\nThe one-hour per week classes incl
 ude proper equipment selection\, warm-up exercises\, the basic elements of
  the Ten Steps to Good Shooting and related safety rules.  Kathleen finis
 hes each class with a fun activity to reinforce the lesson plan for that e
 vening.\n\nSouth Nation Archery supplies all the equipment.  Students nee
 d to wear snug-fitting clothing on the upper body and must bring indoor sh
 oes to wear during class.\n\nPre-payment is obligatory in order to hold yo
 ur spot.  You will receive information for e-transfers before the session
  starts.  You may telephone us with your credit card information or stop 
 by to pay with debit card\, cash or cheque.\n\nCost:  $100/student + HST\
 n\nStart Date:  Friday\, February 27\, 2026
CATEGORIES:Beginner adult,Beginner youth,Class,Intermediate adult and
 youth
LOCATION:South Nation Archery Supply\, 11667 Holmes Rd.\, Winchester\, ON\,
  Canada\, K0C 2K0\, Canada
GEO:45.0538545;-75.3865227
X-APPLE-STRUCTURED-LOCATION;VALUE=URI;X-ADDRESS=11667 Holmes Rd.\, Winchest
 er\, ON\, Canada\, K0C 2K0\, Canada;X-APPLE-RADIUS=100;X-TITLE=South Natio
 n Archery Supply:geo:45.0538545,-75.3865227
END:VEVENT
BEGIN:VTIMEZONE
TZID:America/Toronto
X-LIC-LOCATION:America/Toronto
BEGIN:STANDARD
DTSTART:20251102T010000
TZOFFSETFROM:-0400
TZOFFSETTO:-0500
TZNAME:EST
END:STANDARD
BEGIN:DAYLIGHT
DTSTART:20260308T030000
TZOFFSETFROM:-0500
TZOFFSETTO:-0400
TZNAME:EDT
END:DAYLIGHT
END:VTIMEZONE
END:VCALENDAR