BEGIN:VCALENDAR
VERSION:2.0
PRODID:-//wp-events-plugin.com//7.2.3.1//EN
TZID:America/Toronto
X-WR-TIMEZONE:America/Toronto
BEGIN:VEVENT
UID:4887@southnationarchery.com
DTSTART;TZID=America/Toronto:20250411T200000
DTEND;TZID=America/Toronto:20250412T220000
DTSTAMP:20250124T180601Z
URL:https://www.southnationarchery.com/events/ba3-8-classes-for-beginner-a
 dults-and-teenagers-session-3-2025-2025-04-11/
SUMMARY:FULL BA3-8 Classes for Beginner Adults and Teenagers Session #3 - 2
 025
DESCRIPTION:Please note that this session is booked fully.  Check dates fo
 r Session #4.\n\nDid you want to try archery\, but you were afraid you wou
 ld have to buy the equipment first?  Our 6-week sessions are an ideal sol
 ution!  Come out for the first time\, or to brush up on your skills after
  time away from the sport.\n\nOur 8pm Friday classes are geared to adults.
   However\, older teenagers are welcomed also\, if the 7pm class does not
  work for your family.\n\nThe one-hour per week classes include proper equ
 ipment selection\, warm-up exercises\, the basic elements of the Ten Steps
  to Good Shooting and related safety rules.  Kathy finishes each class wi
 th a fun activity to reinforce the lesson plan for that evening.\n\nSouth 
 Nation Archery supplies all the equipment.  Students need to wear snug-fi
 tting clothing on the upper body and must bring indoor shoes to wear durin
 g class.\n\nPre-payment is obligatory in order to hold your spot.  You wi
 ll receive information for e-transfers before the session starts.  You ma
 y telephone us with your credit card information or stop by to pay with de
 bit card\, cash or cheque.\n\nCost:  $100/student + HST\n\nStart Date:  
 Friday\, March 07\, 2025
CATEGORIES:Beginner adult,Class
LOCATION:South Nation Archery Supply\, 11667 Holmes Rd.\, Winchester\, ON\,
  Canada\, K0C 2K0\, Canada
GEO:45.0538545;-75.3865227
X-APPLE-STRUCTURED-LOCATION;VALUE=URI;X-ADDRESS=11667 Holmes Rd.\, Winchest
 er\, ON\, Canada\, K0C 2K0\, Canada;X-APPLE-RADIUS=100;X-TITLE=South Natio
 n Archery Supply:geo:45.0538545,-75.3865227
END:VEVENT
BEGIN:VTIMEZONE
TZID:America/Toronto
X-LIC-LOCATION:America/Toronto
BEGIN:DAYLIGHT
DTSTART:20250309T030000
TZOFFSETFROM:-0500
TZOFFSETTO:-0400
TZNAME:EDT
END:DAYLIGHT
END:VTIMEZONE
END:VCALENDAR