BEGIN:VCALENDAR
VERSION:2.0
PRODID:-//wp-events-plugin.com//7.2.3.1//EN
TZID:America/Toronto
X-WR-TIMEZONE:America/Toronto
BEGIN:VEVENT
UID:5125@southnationarchery.com
DTSTART;TZID=America/Toronto:20260109T200000
DTEND;TZID=America/Toronto:20260214T210000
DTSTAMP:20251217T165402Z
URL:https://www.southnationarchery.com/events/ba2-8-classes-for-beginner-a
 dults-and-teenagers-session-2-2026/
SUMMARY:FULL BA2-8 Classes for Beginner Adults and Teenagers Session #2 - 2
 026
DESCRIPTION:NOTE:  This session is FULL as of 2025-12-13.  If you wish to
  join a beginner adult classes\, please consider pre-registering for sessi
 ons 3 or 4.  Contact Kathleen Millar at info@southnationarchery.com\n\nTh
 ank you.\n\nDid you want to try archery\, but you were afraid you would ha
 ve to buy the equipment first?  Our 6-week sessions are an ideal solution
 !  Come out for the first time\, or to brush up on your skills after time
  away from the sport.\n\nOur 8pm Friday classes are geared to adults.  Ho
 wever\, older teenagers are welcomed also\, if the 7pm class does not work
  for your family.\n\nThe one-hour per week classes include proper equipmen
 t selection\, warm-up exercises\, the basic elements of the Ten Steps to G
 ood Shooting and related safety rules.  Kathleen finishes each class with
  a fun activity to reinforce the lesson plan for that evening.\n\nSouth Na
 tion Archery supplies all the equipment.  Students need to wear snug-fitt
 ing clothing on the upper body and must bring indoor shoes to wear during 
 class.\n\nPre-payment is obligatory in order to hold your spot.  You will
  receive information for e-transfers before the session starts.  You may 
 telephone us with your credit card information or stop by to pay with debi
 t card\, cash or cheque.\n\nCost:  $100/student + HST\n\nStart Date:  Fr
 iday\, January 09\, 2026
CATEGORIES:Beginner adult,Beginner youth,Class,Intermediate adult and
 youth
LOCATION:South Nation Archery Supply\, 11667 Holmes Rd.\, Winchester\, ON\,
  Canada\, K0C 2K0\, Canada
GEO:45.0538545;-75.3865227
X-APPLE-STRUCTURED-LOCATION;VALUE=URI;X-ADDRESS=11667 Holmes Rd.\, Winchest
 er\, ON\, Canada\, K0C 2K0\, Canada;X-APPLE-RADIUS=100;X-TITLE=South Natio
 n Archery Supply:geo:45.0538545,-75.3865227
END:VEVENT
BEGIN:VTIMEZONE
TZID:America/Toronto
X-LIC-LOCATION:America/Toronto
BEGIN:STANDARD
DTSTART:20251102T010000
TZOFFSETFROM:-0400
TZOFFSETTO:-0500
TZNAME:EST
END:STANDARD
END:VTIMEZONE
END:VCALENDAR