BEGIN:VCALENDAR
VERSION:2.0
PRODID:-//wp-events-plugin.com//7.2.3.1//EN
TZID:America/Toronto
X-WR-TIMEZONE:America/Toronto
BEGIN:VEVENT
UID:4652@southnationarchery.com
DTSTART;TZID=America/Toronto:20240119T200000
DTEND;TZID=America/Toronto:20240120T210000
DTSTAMP:20231127T184821Z
URL:https://www.southnationarchery.com/events/ba2-8-classes-for-beginner-a
 dults-and-teenagers-session-2-2024-2024-01-19/
SUMMARY:FULL BA2-8 Classes for Beginner Adults and Teenagers Session #2 - 2
 024
DESCRIPTION:Please note that as of 2023-11-27 this session is full.  Consi
 der pre-registering for Session #3 or #4.  Thank you.\n\nDid you want to 
 try archery\, but you were afraid you would have to buy the equipment firs
 t?  Our 6-week sessions are an ideal solution!  Come out for the first t
 ime\, or to brush up on your skills after time away from the sport.\n\nOur
  8pm Friday classes are geared to adults.  However\, older teenagers are 
 welcomed also\, if the 7pm class does not work for your family.\n\nThe one
 -hour per week classes include proper equipment selection\, warm-up exerci
 ses\, the basic elements of the Ten Steps to Good Shooting and related saf
 ety rules.  Kathy finishes each class with a fun activity to reinforce th
 e lesson plan for that evening.\n\nSouth Nation Archery supplies all the e
 quipment.  Students need to wear snug-fitting clothing on the upper body 
 and must bring indoor shoes to wear during class.\n\nPre-payment is obliga
 tory in order to hold your spot.  You will receive information for e-tran
 sfers before the session starts.  You may telephone us with your credit c
 ard information or stop by to pay with debit card\, cash or cheque.\n\nCos
 t:  $90/student + HST\n\nStart Date:  Friday\, January 12\, 2024
CATEGORIES:Beginner adult,Beginner youth,Class
LOCATION:South Nation Archery Supply\, 11667 Holmes Rd.\, Winchester\, ON\,
  Canada\, K0C 2K0\, Canada
GEO:45.0538545;-75.3865227
X-APPLE-STRUCTURED-LOCATION;VALUE=URI;X-ADDRESS=11667 Holmes Rd.\, Winchest
 er\, ON\, Canada\, K0C 2K0\, Canada;X-APPLE-RADIUS=100;X-TITLE=South Natio
 n Archery Supply:geo:45.0538545,-75.3865227
END:VEVENT
BEGIN:VTIMEZONE
TZID:America/Toronto
X-LIC-LOCATION:America/Toronto
BEGIN:STANDARD
DTSTART:20231105T010000
TZOFFSETFROM:-0400
TZOFFSETTO:-0500
TZNAME:EST
END:STANDARD
END:VTIMEZONE
END:VCALENDAR