BEGIN:VCALENDAR
VERSION:2.0
PRODID:-//wp-events-plugin.com//7.2.3.1//EN
TZID:America/Toronto
X-WR-TIMEZONE:America/Toronto
BEGIN:VEVENT
UID:1969@southnationarchery.com
DTSTART;TZID=America/Toronto:20150520T200000
DTEND;TZID=America/Toronto:20150520T210000
DTSTAMP:20150103T002653Z
URL:https://www.southnationarchery.com/events/ay4-8-classes-advanced-youth
 -session-4-at-8pm-2-2015-05-20/
SUMMARY:AY4-8 Classes - Advanced Youth Session 4 at 8pm
DESCRIPTION:Session 4 helps students prepare for the outdoor season. The fi
 rst 3 classes will be held indoors\, covering angled shooting and upper bo
 dy alignment\, re-assessing stance and lower body power\, as well as selec
 ting proper clothing.\n\nThe second 3 classes will be held on the outdoor 
 range. Students will be encouraged to shoot the SNAC’s CDN 900 round lea
 gues during June-July\, 2015 to gain competitive experience\, if they feel
  they are ready for that challenge.\n\nMore detailed information will foll
 ow.\n\nDates are Wednesdays from April 15 to May 27\, 2015 (no class on Ma
 y 13th).
CATEGORIES:Advanced youth
LOCATION:South Nation Archery Supply\, 11667 Holmes Rd.\, Winchester\, ON\,
  Canada\, K0C 2K0\, Canada
GEO:45.0538545;-75.3865227
X-APPLE-STRUCTURED-LOCATION;VALUE=URI;X-ADDRESS=11667 Holmes Rd.\, Winchest
 er\, ON\, Canada\, K0C 2K0\, Canada;X-APPLE-RADIUS=100;X-TITLE=South Natio
 n Archery Supply:geo:45.0538545,-75.3865227
END:VEVENT
BEGIN:VTIMEZONE
TZID:America/Toronto
X-LIC-LOCATION:America/Toronto
BEGIN:DAYLIGHT
DTSTART:20150308T030000
TZOFFSETFROM:-0500
TZOFFSETTO:-0400
TZNAME:EDT
END:DAYLIGHT
END:VTIMEZONE
END:VCALENDAR