BEGIN:VCALENDAR
VERSION:2.0
PRODID:-//wp-events-plugin.com//7.2.3.1//EN
TZID:America/Toronto
X-WR-TIMEZONE:America/Toronto
BEGIN:VEVENT
UID:542@southnationarchery.com
DTSTART;TZID=America/Toronto:20130419T200000
DTEND;TZID=America/Toronto:20130419T210000
DTSTAMP:20130406T231839Z
URL:https://www.southnationarchery.com/events/adultbeginner8-session-4-201
 3-04-19/
SUMMARY:AdultBeginner8 - Session 4 FULL
DESCRIPTION:FULL - NO SPACES ARE AVAILABLE FOR THIS SESSION.  Session 4 ru
 ns from April 19 - May 24\, 2013.\n\nTry to come to class #1 a little earl
 y so we can test eye dominance properly and assign equipment. Make sure to
  bring indoor shoes and wear tight-fitting close across the chest and arms
 .\n\nIf you have taken 2 or more classes with Kathy\, please contact her t
 o see if you should be taking either adult beginner or youth advanced.\n\n
 Class #1 - Major points:  Eye dominance\, equipment allocation\, stance\,
  bowhand\, bowarm elbow and bow shoulder\n\nClass #2 - Major points:  fin
 ger Placement on the string\, Fingers at full-draw\, anchor position\n\nCl
 ass #3 - Major points:  Release action of string fingers\, direction of r
 elease\n\nClass #4 - Major points:  Position of string elbow and directio
 n\, 4 quadrants\n\nClass #5 - Major points:  String alignment\, sight pin
  movement\, how to aim and get sight marks\n\nClass #6 - Major points:  F
 ollow-through\, both sides
CATEGORIES:Beginner adult
LOCATION:South Nation Archery Supply\, 11667 Holmes Rd.\, Winchester\, ON\,
  Canada\, K0C 2K0\, Canada
GEO:45.0538545;-75.3865227
X-APPLE-STRUCTURED-LOCATION;VALUE=URI;X-ADDRESS=11667 Holmes Rd.\, Winchest
 er\, ON\, Canada\, K0C 2K0\, Canada;X-APPLE-RADIUS=100;X-TITLE=South Natio
 n Archery Supply:geo:45.0538545,-75.3865227
END:VEVENT
BEGIN:VTIMEZONE
TZID:America/Toronto
X-LIC-LOCATION:America/Toronto
BEGIN:DAYLIGHT
DTSTART:20130310T030000
TZOFFSETFROM:-0500
TZOFFSETTO:-0400
TZNAME:EDT
END:DAYLIGHT
END:VTIMEZONE
END:VCALENDAR