BEGIN:VCALENDAR
VERSION:2.0
PRODID:-//wp-events-plugin.com//7.2.3.1//EN
TZID:America/Toronto
X-WR-TIMEZONE:America/Toronto
BEGIN:VEVENT
UID:493@southnationarchery.com
DTSTART;TZID=America/Toronto:20130110T180000
DTEND;TZID=America/Toronto:20130110T180000
DTSTAMP:20130117T183504Z
URL:https://www.southnationarchery.com/events/adultadvanced6-session-2-201
 3-01-10/
SUMMARY:AdultAdvanced6 - Session 2
DESCRIPTION:SCHEDULE FOR ADULT ADVANCED CLASSES 2013\n\nJanuary 09    
   Review of Form Analysis - Picking up the pieces\n\nFeeling the string s
 ide line up\n\nVideo-taping session #1 - string shoulder alignment\n\nJanu
 ary 16      Passive Aiming &amp\; the Importance of Follow-through\n\
 nEye movement on the shot\n\nJanuary 23      Tournament Prep:  Sleep
 \, Diet\, Attitude\n\nGoal-setting for OAA champs\n\nNutrition Challenge b
 egins!\n\nJanuary 30      Imagery &amp\; Tension\n\nNutrition Challen
 ge ends!\n\nBreathing and tension release\n\nFebruary 06    Video-tapin
 g session #2 for reinforcing form\n\nStrategies for concentration\n\nFebru
 ary 13    Keeping your mind occupied on the line\n\nDistraction Night\n
 \nAdvanced Adult fees are $50.00\; we offer family discounts. HST is not i
 ncluded.
CATEGORIES:Advanced adult
LOCATION:South Nation Archery Supply\, 11667 Holmes Rd.\, Winchester\, ON\,
  Canada\, K0C 2K0\, Canada
GEO:45.0538545;-75.3865227
X-APPLE-STRUCTURED-LOCATION;VALUE=URI;X-ADDRESS=11667 Holmes Rd.\, Winchest
 er\, ON\, Canada\, K0C 2K0\, Canada;X-APPLE-RADIUS=100;X-TITLE=South Natio
 n Archery Supply:geo:45.0538545,-75.3865227
END:VEVENT
BEGIN:VTIMEZONE
TZID:America/Toronto
X-LIC-LOCATION:America/Toronto
BEGIN:STANDARD
DTSTART:20121104T010000
TZOFFSETFROM:-0400
TZOFFSETTO:-0500
TZNAME:EST
END:STANDARD
END:VTIMEZONE
END:VCALENDAR