BEGIN:VCALENDAR
VERSION:2.0
PRODID:-//wp-events-plugin.com//7.2.3.1//EN
TZID:America/Toronto
X-WR-TIMEZONE:America/Toronto
BEGIN:VEVENT
UID:60@southnationarchery.com
DTSTART;TZID=America/Toronto:20121213T180000
DTEND;TZID=America/Toronto:20121213T190000
DTSTAMP:20121107T162923Z
URL:https://www.southnationarchery.com/events/aa6-session-1-2012-12-13/
SUMMARY:AdultAdvanced6 - Session 1
DESCRIPTION:New for 2012\, due to popular demand\, we are offering another 
 Adult Advanced class from 6-7 pm. The next session starts on November 15th
 .\n\n\n\nNov 14thWelcome back!\n\nKathy will introduce goal-setting bookle
 ts for each student\, review warm-up exercises\, get people back into visu
 alisation and offer fun rounds.\n\n\ndatetopic\n\n\ndatetopic\n\n\n\nAdvan
 ced Adult fees are $50.00\; we offer family discounts. HST is not included
 .
CATEGORIES:Advanced adult
LOCATION:South Nation Archery Supply\, 11667 Holmes Rd.\, Winchester\, ON\,
  Canada\, K0C 2K0\, Canada
GEO:45.0538545;-75.3865227
X-APPLE-STRUCTURED-LOCATION;VALUE=URI;X-ADDRESS=11667 Holmes Rd.\, Winchest
 er\, ON\, Canada\, K0C 2K0\, Canada;X-APPLE-RADIUS=100;X-TITLE=South Natio
 n Archery Supply:geo:45.0538545,-75.3865227
END:VEVENT
BEGIN:VTIMEZONE
TZID:America/Toronto
X-LIC-LOCATION:America/Toronto
BEGIN:STANDARD
DTSTART:20121104T010000
TZOFFSETFROM:-0400
TZOFFSETTO:-0500
TZNAME:EST
END:STANDARD
END:VTIMEZONE
END:VCALENDAR