BEGIN:VCALENDAR
VERSION:2.0
PRODID:-//wp-events-plugin.com//7.2.3.1//EN
TZID:America/Toronto
X-WR-TIMEZONE:America/Toronto
BEGIN:VEVENT
UID:2634@southnationarchery.com
DTSTART;TZID=America/Toronto:20170302T200000
DTEND;TZID=America/Toronto:20170302T210000
DTSTAMP:20160914T224013Z
URL:https://www.southnationarchery.com/events/aa3-8-classes-advanced-adult
 -session-3-at-8pm-5-2017-03-02/
SUMMARY:AA3-8 Classes - Advanced Adult Session 3 at 8pm
DESCRIPTION:Session 3 continues to TRAIN advanced students for indoor compe
 tition. Specialisation of technical aspects and individualised psychologic
 al\, physical and equipment strategies continue and concentration challeng
 es are presented include shooting candle flames. Video-taping continues ev
 ery other week.\nStudents will be encouraged to shoot the Archery Canada 1
 0-ring national championships during the weekend of March 5-6\, 2017 to ga
 in more competitive experience\, if they feel they are ready for that chal
 lenge. MICA is another step archers can take on March 26.\nDates are Thurs
 days from March 02 April 06\, 2017.\nThere are no classes April 08-16.
CATEGORIES:Advanced adult
LOCATION:South Nation Archery Supply\, 11667 Holmes Rd.\, Winchester\, ON\,
  Canada\, K0C 2K0\, Canada
GEO:45.0538545;-75.3865227
X-APPLE-STRUCTURED-LOCATION;VALUE=URI;X-ADDRESS=11667 Holmes Rd.\, Winchest
 er\, ON\, Canada\, K0C 2K0\, Canada;X-APPLE-RADIUS=100;X-TITLE=South Natio
 n Archery Supply:geo:45.0538545,-75.3865227
END:VEVENT
BEGIN:VTIMEZONE
TZID:America/Toronto
X-LIC-LOCATION:America/Toronto
BEGIN:STANDARD
DTSTART:20161106T010000
TZOFFSETFROM:-0400
TZOFFSETTO:-0500
TZNAME:EST
END:STANDARD
END:VTIMEZONE
END:VCALENDAR