BEGIN:VCALENDAR
VERSION:2.0
PRODID:-//wp-events-plugin.com//7.2.3.1//EN
TZID:America/Toronto
X-WR-TIMEZONE:America/Toronto
BEGIN:VEVENT
UID:1370@southnationarchery.com
DTSTART;TZID=America/Toronto:20140227T190000
DTEND;TZID=America/Toronto:20140228T200000
DTSTAMP:20140224T132857Z
URL:https://www.southnationarchery.com/events/aa3-7-classes-advanced-adult
 -session-3-at-7pm-2014-02-27/
SUMMARY:AA3-7 Classes - Advanced Adult Session 3 at 7pm
DESCRIPTION:2014 - 2 spots available - 2014-02-24\n\nSession 3 continues to
  prepare advanced students for indoor competition.  Specialisation of tech
 nical aspects and individualised psychological\, physical and equipment st
 rategies continue and concentration challenges are presented include shoot
 ing candle flames.  Video-taping continues every other week.\n\nStudents w
 ill be encouraged to shoot the Archery Canada 10-ring national championshi
 ps during the weekend of March 1-2\, 2014 to gain more competitive experie
 nce\, if they feel they are ready for that challenge.\n\nMore detailed inf
 ormation will follow.\n\nDates are Thursdays from February 27 to April 03\
 , 2014.
CATEGORIES:Advanced adult
LOCATION:South Nation Archery Supply\, 11667 Holmes Rd.\, Winchester\, ON\,
  Canada\, K0C 2K0\, Canada
GEO:45.0538545;-75.3865227
X-APPLE-STRUCTURED-LOCATION;VALUE=URI;X-ADDRESS=11667 Holmes Rd.\, Winchest
 er\, ON\, Canada\, K0C 2K0\, Canada;X-APPLE-RADIUS=100;X-TITLE=South Natio
 n Archery Supply:geo:45.0538545,-75.3865227
END:VEVENT
BEGIN:VTIMEZONE
TZID:America/Toronto
X-LIC-LOCATION:America/Toronto
BEGIN:STANDARD
DTSTART:20131103T010000
TZOFFSETFROM:-0400
TZOFFSETTO:-0500
TZNAME:EST
END:STANDARD
END:VTIMEZONE
END:VCALENDAR