BEGIN:VCALENDAR
VERSION:2.0
PRODID:-//wp-events-plugin.com//7.2.3.1//EN
TZID:America/Toronto
X-WR-TIMEZONE:America/Toronto
BEGIN:VEVENT
UID:1989@southnationarchery.com
DTSTART;TZID=America/Toronto:20150319T180000
DTEND;TZID=America/Toronto:20150319T190000
DTSTAMP:20150104T133750Z
URL:https://www.southnationarchery.com/events/aa3-6-classes-advanced-adult
 -session-3-at-6pm-2-2015-03-19/
SUMMARY:AA3-6 Classes - Advanced Adult Session 3 at 6pm
DESCRIPTION:Session 3 continues to prepare advanced students for indoor com
 petition. Specialisation of technical aspects and individualised psycholog
 ical\, physical and equipment strategies continue and concentration challe
 nges are presented include shooting candle flames. Video-taping continues 
 every other week.\n\nStudents will be encouraged to shoot the Archery Cana
 da 10-ring national championships during the weekend of March 7-8\, 2015 t
 o gain more competitive experience\, if they feel they are ready for that 
 challenge.\n\nMore detailed information will follow.\n\nDates are Thursday
 s from February 26 to April 02\, 2015.
CATEGORIES:Advanced adult
LOCATION:South Nation Archery Supply\, 11667 Holmes Rd.\, Winchester\, ON\,
  Canada\, K0C 2K0\, Canada
GEO:45.0538545;-75.3865227
X-APPLE-STRUCTURED-LOCATION;VALUE=URI;X-ADDRESS=11667 Holmes Rd.\, Winchest
 er\, ON\, Canada\, K0C 2K0\, Canada;X-APPLE-RADIUS=100;X-TITLE=South Natio
 n Archery Supply:geo:45.0538545,-75.3865227
END:VEVENT
BEGIN:VTIMEZONE
TZID:America/Toronto
X-LIC-LOCATION:America/Toronto
BEGIN:DAYLIGHT
DTSTART:20150308T030000
TZOFFSETFROM:-0500
TZOFFSETTO:-0400
TZNAME:EDT
END:DAYLIGHT
END:VTIMEZONE
END:VCALENDAR