BEGIN:VCALENDAR
VERSION:2.0
PRODID:-//wp-events-plugin.com//7.2.3.1//EN
TZID:America/Toronto
X-WR-TIMEZONE:America/Toronto
BEGIN:VEVENT
UID:1248@southnationarchery.com
DTSTART;TZID=America/Toronto:20140206T200000
DTEND;TZID=America/Toronto:20140212T210000
DTSTAMP:20140114T211643Z
URL:https://www.southnationarchery.com/events/aa2-8-classes-advanced-adult
 -session-2-at-8pm-2014-02-06/
SUMMARY:AA2-8 Classes - Advanced Adult Session 2 - 8pm FULL
DESCRIPTION:2014\n\nSession 2 helps advanced students get ready for the ind
 oor competition season.  Psychological\, physical and nutritional aspects 
 will be covered with a session on equipment tuning\, distraction technique
 s and rules for shooting tournaments properly.  \n\nStudents will be encou
 raged to shoot the OAA 10-ring provincial championships during the week of
  February 15-22\, 2014 to gain more competitive experience.\n\nMore detail
 ed information will follow.\n\nDates are Thursdays from January 09 to Febr
 uary 13\, 2014.
CATEGORIES:Advanced adult
LOCATION:South Nation Archery Supply\, 11667 Holmes Rd.\, Winchester\, ON\,
  Canada\, K0C 2K0\, Canada
GEO:45.0538545;-75.3865227
X-APPLE-STRUCTURED-LOCATION;VALUE=URI;X-ADDRESS=11667 Holmes Rd.\, Winchest
 er\, ON\, Canada\, K0C 2K0\, Canada;X-APPLE-RADIUS=100;X-TITLE=South Natio
 n Archery Supply:geo:45.0538545,-75.3865227
END:VEVENT
BEGIN:VTIMEZONE
TZID:America/Toronto
X-LIC-LOCATION:America/Toronto
BEGIN:STANDARD
DTSTART:20131103T010000
TZOFFSETFROM:-0400
TZOFFSETTO:-0500
TZNAME:EST
END:STANDARD
END:VTIMEZONE
END:VCALENDAR