BEGIN:VCALENDAR
VERSION:2.0
PRODID:-//wp-events-plugin.com//7.2.3.1//EN
TZID:America/Toronto
X-WR-TIMEZONE:America/Toronto
BEGIN:VEVENT
UID:2391@southnationarchery.com
DTSTART;TZID=America/Toronto:20160211T180000
DTEND;TZID=America/Toronto:20160212T190000
DTSTAMP:20160107T165909Z
URL:https://www.southnationarchery.com/events/aa2-6-classes-advanced-adult
 -session-2-at-6pm-3-2016-02-11/
SUMMARY:AA2-6 Classes - Advanced Adult Session 2 at 6pm
DESCRIPTION:Session 2 helps advanced students get ready for the indoor comp
 etition season. Psychological\, physical and nutritional aspects will be c
 overed with a session on equipment tuning\, distraction techniques and rul
 es for shooting tournaments properly.\n\nStudents will be encouraged to sh
 oot the OAA 10-ring provincial championships during the week of February 1
 5-21\, 2014 to gain more competitive experience.\n\nDates are Thursdays fr
 om January 07 to February 11\, 2016.\n\nLesson #1:  Bowhand Shape Review 
 - V or U - what does the bow want?\n\nLesson #2:  Goal-setting for indoor
 s / value of an arrow exercise\n\nLesson #3:  Video-taping #1 / What do y
 ou want to work on?  (No more than 3 items)\n\nLesson #4:  The eyes have
  it!/3-part visual follow-through/passive aiming on demand\n\nLesson #5: 
  Video-taping #2 / Are your changes working? / Tape measure exercise\n\nLe
 sson #6:  Distraction Night / Tape measure exercise
CATEGORIES:Advanced adult
LOCATION:South Nation Archery Supply\, 11667 Holmes Rd.\, Winchester\, ON\,
  Canada\, K0C 2K0\, Canada
GEO:45.0538545;-75.3865227
X-APPLE-STRUCTURED-LOCATION;VALUE=URI;X-ADDRESS=11667 Holmes Rd.\, Winchest
 er\, ON\, Canada\, K0C 2K0\, Canada;X-APPLE-RADIUS=100;X-TITLE=South Natio
 n Archery Supply:geo:45.0538545,-75.3865227
END:VEVENT
BEGIN:VTIMEZONE
TZID:America/Toronto
X-LIC-LOCATION:America/Toronto
BEGIN:STANDARD
DTSTART:20151101T010000
TZOFFSETFROM:-0400
TZOFFSETTO:-0500
TZNAME:EST
END:STANDARD
END:VTIMEZONE
END:VCALENDAR