BEGIN:VCALENDAR
VERSION:2.0
PRODID:-//wp-events-plugin.com//7.2.3.1//EN
TZID:America/Toronto
X-WR-TIMEZONE:America/Toronto
BEGIN:VEVENT
UID:1031@southnationarchery.com
DTSTART;TZID=America/Toronto:20140213T180000
DTEND;TZID=America/Toronto:20140214T190000
DTSTAMP:20131012T182802Z
URL:https://www.southnationarchery.com/events/aa2-6-classes-advanced-adult
 -session-2-at-6pm-2014-02-13/
SUMMARY:AA2-6 Classes - Advanced Adult Session 2 at 6pm
DESCRIPTION:2014 - 4 spots available - 2013-10-12\n\nSession 2 helps advanc
 ed students get ready for the indoor competition season.  Psychological\, 
 physical and nutritional aspects will be covered with a session on equipme
 nt tuning\, distraction techniques and rules for shooting tournaments prop
 erly.  \n\nStudents will be encouraged to shoot the OAA 10-ring provincial
  championships during the week of February 15-22\, 2014 to gain more compe
 titive experience.\n\nMore detailed information will follow.\n\nDates are 
 Thursdays from January 09 to February 13\, 2014.\n
CATEGORIES:Advanced adult
LOCATION:South Nation Archery Supply\, 11667 Holmes Rd.\, Winchester\, ON\,
  Canada\, K0C 2K0\, Canada
GEO:45.0538545;-75.3865227
X-APPLE-STRUCTURED-LOCATION;VALUE=URI;X-ADDRESS=11667 Holmes Rd.\, Winchest
 er\, ON\, Canada\, K0C 2K0\, Canada;X-APPLE-RADIUS=100;X-TITLE=South Natio
 n Archery Supply:geo:45.0538545,-75.3865227
END:VEVENT
BEGIN:VTIMEZONE
TZID:America/Toronto
X-LIC-LOCATION:America/Toronto
BEGIN:STANDARD
DTSTART:20131103T010000
TZOFFSETFROM:-0400
TZOFFSETTO:-0500
TZNAME:EST
END:STANDARD
END:VTIMEZONE
END:VCALENDAR