BEGIN:VCALENDAR
VERSION:2.0
PRODID:-//wp-events-plugin.com//7.2.3.1//EN
TZID:America/Toronto
X-WR-TIMEZONE:America/Toronto
BEGIN:VEVENT
UID:5090@southnationarchery.com
DTSTART;TZID=America/Toronto:20260415T200000
DTEND;TZID=America/Toronto:20260521T210000
DTSTAMP:20251017T140348Z
URL:https://www.southnationarchery.com/events/a4-w8-adult-advanced-session
 -4-at-8pm-final-session/
SUMMARY:A4-W8 Adult Advanced Session #4 at 8pm FINAL SESSION
DESCRIPTION:For Advanced archers 14 years of age and older\, Wednesday nigh
 ts at 8pm will continue from our work in Session #3.  The last 3 lessons 
 will take place outdoors.\n\nE-mail:  info@southnationarchery.com to pre-
 register.  Only those students who have taken at least 2-3 full beginner 
 sessions can register.\n\nAdults 17 years of age and older: $100 + HST\n\n
 Youth 14-16 years of age:            $85 + HST\n\nStarting date
 :  Wednesday\, April 15\, 2026
CATEGORIES:Advanced adult,Advanced youth,Class
LOCATION:South Nation Archery Supply\, 11667 Holmes Rd.\, Winchester\, ON\,
  Canada\, K0C 2K0\, Canada
GEO:45.0538545;-75.3865227
X-APPLE-STRUCTURED-LOCATION;VALUE=URI;X-ADDRESS=11667 Holmes Rd.\, Winchest
 er\, ON\, Canada\, K0C 2K0\, Canada;X-APPLE-RADIUS=100;X-TITLE=South Natio
 n Archery Supply:geo:45.0538545,-75.3865227
END:VEVENT
BEGIN:VTIMEZONE
TZID:America/Toronto
X-LIC-LOCATION:America/Toronto
BEGIN:DAYLIGHT
DTSTART:20260308T030000
TZOFFSETFROM:-0500
TZOFFSETTO:-0400
TZNAME:EDT
END:DAYLIGHT
END:VTIMEZONE
END:VCALENDAR