BEGIN:VCALENDAR
VERSION:2.0
PRODID:-//wp-events-plugin.com//7.2.3.1//EN
TZID:America/Toronto
X-WR-TIMEZONE:America/Toronto
BEGIN:VEVENT
UID:4746@southnationarchery.com
DTSTART;TZID=America/Toronto:20250108T180000
DTEND;TZID=America/Toronto:20250212T190000
DTSTAMP:20250104T140934Z
URL:https://www.southnationarchery.com/event-recurring/a2-w6-adult-advance
 d-session-2-at-6pm/
SUMMARY:FULL A2-W6 Adult Advanced Session #2 at 6pm
DESCRIPTION:For Advanced archers 14 years of age and older\, Wednesday nigh
 ts at 6pm will continue from our work in Session #1.  This session is ful
 ly booked.  If you wish to enroll in an upcoming series of classes\, plea
 se look at Sessions 3 &amp\; 4.\n\nE-mail:  info@southnationarchery.com t
 o pre-register.  Only those students who have taken at least 2-3 full beg
 inner sessions can register.\n\nAdults 17 years of age and older: $100 + H
 ST\n\nYouth 14-16 years of age:              $85 + HST\n\nStar
 ting date:  Wednesday\, January 08\, 2025
CATEGORIES:Advanced adult,Advanced youth,Class
LOCATION:South Nation Archery Supply\, 11667 Holmes Rd.\, Winchester\, ON\,
  Canada\, K0C 2K0\, Canada
GEO:45.0538545;-75.3865227
X-APPLE-STRUCTURED-LOCATION;VALUE=URI;X-ADDRESS=11667 Holmes Rd.\, Winchest
 er\, ON\, Canada\, K0C 2K0\, Canada;X-APPLE-RADIUS=100;X-TITLE=South Natio
 n Archery Supply:geo:45.0538545,-75.3865227
END:VEVENT
BEGIN:VTIMEZONE
TZID:America/Toronto
X-LIC-LOCATION:America/Toronto
BEGIN:STANDARD
DTSTART:20241103T010000
TZOFFSETFROM:-0400
TZOFFSETTO:-0500
TZNAME:EST
END:STANDARD
END:VTIMEZONE
END:VCALENDAR