BEGIN:VCALENDAR
VERSION:2.0
PRODID:-//wp-events-plugin.com//7.2.3.1//EN
TZID:America/Toronto
X-WR-TIMEZONE:America/Toronto
BEGIN:VEVENT
UID:4975@southnationarchery.com
DTSTART;TZID=America/Toronto:20251112T180000
DTEND;TZID=America/Toronto:20251218T190000
DTSTAMP:20251011T222341Z
URL:https://www.southnationarchery.com/events/a1-w6-session-1-advanced-cla
 ss-at-6pm/
SUMMARY:A1-W6 Session #1 Advanced Class at 6pm
DESCRIPTION:For Advanced youth and adults\, Wednesday nights at 6pm will in
 vestigate how the archer implements “The Three Ps” as a welcome-back e
 xercise for students.\n\nE-mail:  info@southnationarchery.com to pre-regi
 ster.  Only those students who have taken at least 2-3 full beginner sess
 ions can register.\n\nCost for 6-week session:\n\nAdults 17 years of age a
 nd older: $100 + HST\n\nYouth 14-16 years of age:            $8
 5 + HST\n\n&nbsp\;\n\nStarting date:  Wednesday\, November 12\, 2025
CATEGORIES:Advanced adult,Advanced youth,Class
LOCATION:South Nation Archery Supply\, 11667 Holmes Rd.\, Winchester\, ON\,
  Canada\, K0C 2K0\, Canada
GEO:45.0538545;-75.3865227
X-APPLE-STRUCTURED-LOCATION;VALUE=URI;X-ADDRESS=11667 Holmes Rd.\, Winchest
 er\, ON\, Canada\, K0C 2K0\, Canada;X-APPLE-RADIUS=100;X-TITLE=South Natio
 n Archery Supply:geo:45.0538545,-75.3865227
END:VEVENT
BEGIN:VTIMEZONE
TZID:America/Toronto
X-LIC-LOCATION:America/Toronto
BEGIN:STANDARD
DTSTART:20251102T010000
TZOFFSETFROM:-0400
TZOFFSETTO:-0500
TZNAME:EST
END:STANDARD
END:VTIMEZONE
END:VCALENDAR