BEGIN:VCALENDAR
VERSION:2.0
PRODID:-//wp-events-plugin.com//7.2.3.1//EN
TZID:America/Toronto
X-WR-TIMEZONE:America/Toronto
BEGIN:VEVENT
UID:4451@southnationarchery.com
DTSTART;TZID=America/Toronto:20230129T090000
DTEND;TZID=America/Toronto:20230129T160000
DTSTAMP:20230119T224521Z
URL:https://www.southnationarchery.com/events/2023-ontario-ifaa-championsh
 ip-at-snac/
SUMMARY:FULL 2023 Ontario IFAA Championship at SNAC
DESCRIPTION:Sorry\, but these two lines are full.  If you wish to be place
 d on the waiting list in case of last-minute cancellations\, please contac
 t us ASAP at info@southnationarchery.com.  Thank you.\n\nThis is a provin
 cial regional championship held annually at SNAC on the last Sunday in Jan
 uary.  The round consists of 12 ends of 5 arrows each\, shot on either th
 e blue and white single spot or the 5-spot target face.\n\nMorning line: 
  Official Practice 9am\; Scoring 10am\n\nAfternoon line:  Official Practi
 ce 1pm\; Scoring 2pm\n\nPre-registration is compulsory.  Space is limited
 .\n\nProvincial Champs:  $35. Ages 17 and under $25. (Prices subject to c
 hange)
CATEGORIES:Event
LOCATION:South Nation Archery Supply\, 11667 Holmes Rd.\, Winchester\, ON\,
  Canada\, K0C 2K0\, Canada
GEO:45.0538545;-75.3865227
X-APPLE-STRUCTURED-LOCATION;VALUE=URI;X-ADDRESS=11667 Holmes Rd.\, Winchest
 er\, ON\, Canada\, K0C 2K0\, Canada;X-APPLE-RADIUS=100;X-TITLE=South Natio
 n Archery Supply:geo:45.0538545,-75.3865227
END:VEVENT
BEGIN:VTIMEZONE
TZID:America/Toronto
X-LIC-LOCATION:America/Toronto
BEGIN:STANDARD
DTSTART:20221106T010000
TZOFFSETFROM:-0400
TZOFFSETTO:-0500
TZNAME:EST
END:STANDARD
END:VTIMEZONE
END:VCALENDAR