BEGIN:VCALENDAR
VERSION:2.0
PRODID:-//wp-events-plugin.com//7.2.3.1//EN
TZID:America/Toronto
X-WR-TIMEZONE:America/Toronto
BEGIN:VEVENT
UID:4372@southnationarchery.com
DTSTART;TZID=America/Toronto:20230127T180000
DTEND;TZID=America/Toronto:20230128T190000
DTSTAMP:20221222T222616Z
URL:https://www.southnationarchery.com/events/2023-by2-6-session-2-beginne
 r-youth-night-classes-2023-01-27/
SUMMARY:FULL 2023 BY2-6 Session #2 Beginner Youth night classes
DESCRIPTION:This session is fully booked.  If you are interested in regist
 ering your child(ren) for beginner archery\, please refer to Session #3. 
  Thank you.\n\nBeginner Youth classes run for 6 weeks\, one hour per week\
 , covering The Ten Basic Steps to Good Shooting for archers ages 6 to 10.
   South Nation Archery supplies all the equipment.  Students should brin
 g indoor shoes and wear snug-fitting clothing on the upper body.\n\nIt is 
 highly recommended that students take this course 2-3 times before conside
 ring the youth advanced courses.  Parents and students should discuss thi
 s progression with Kathleen Millar in order to ensure that it is appropria
 te.\n\nClass #1:      Eye-dominance testing\, equipment selection\, w
 arm-ups\, skill demonstration\, shooting right away at close distances\, i
 ntroduction to string alignment.\n\nClass #2:      Warm-ups\, review\
 , finger placement on the string\, at full draw\, and anchor position\, fi
 nishing with a fun round.\n\nClass #3:      Warm-ups\, review\, relea
 se action of the fingers and direction of release\, finishing with a run r
 ound.\n\nClass #4:      Warm-ups\, review\, position of string elbow 
 and direction\, four quadrants of strength\, finishing with a run round.\n
 \nClass #5:      Warm-ups\, review\, string alignment\, proper aiming
  - how and when\, finishing with a run round.\n\nClass #6:      Warm-
 ups\, review\, follow-through – both sides\, finishing with a run round.
CATEGORIES:Beginner youth,Class
LOCATION:South Nation Archery Supply\, 11667 Holmes Rd.\, Winchester\, ON\,
  Canada\, K0C 2K0\, Canada
GEO:45.0538545;-75.3865227
X-APPLE-STRUCTURED-LOCATION;VALUE=URI;X-ADDRESS=11667 Holmes Rd.\, Winchest
 er\, ON\, Canada\, K0C 2K0\, Canada;X-APPLE-RADIUS=100;X-TITLE=South Natio
 n Archery Supply:geo:45.0538545,-75.3865227
END:VEVENT
BEGIN:VTIMEZONE
TZID:America/Toronto
X-LIC-LOCATION:America/Toronto
BEGIN:STANDARD
DTSTART:20221106T010000
TZOFFSETFROM:-0400
TZOFFSETTO:-0500
TZNAME:EST
END:STANDARD
END:VTIMEZONE
END:VCALENDAR