BEGIN:VCALENDAR
VERSION:2.0
PRODID:-//wp-events-plugin.com//7.2.3.1//EN
TZID:America/Toronto
X-WR-TIMEZONE:America/Toronto
BEGIN:VEVENT
UID:4314@southnationarchery.com
DTSTART;TZID=America/Toronto:20221208T180000
DTEND;TZID=America/Toronto:20221209T210000
DTSTAMP:20220926T213800Z
URL:https://www.southnationarchery.com/events/2022-session-1-advanced-thur
 sday-night-classes-2022-12-08/
SUMMARY:2022 Session #1 Advanced Thursday night classes
DESCRIPTION:For the Fall 2022 indoor instructional season\, we will be offe
 ring three one-hour advanced classes from November 10 to December 15 as fo
 llows:\n\nAA1-6  Advanced Adult &amp\; Teenager from 6pm-7pm\n\nAA1-7  A
 dvanced Adult &amp\; Teenager from 7pm-8pm\n\nAA1-8  Advanced Adult &amp\
 ; Teenager from 8pm-9pm\n\nThe 6-week topic this year is the importance an
 d significance of the follow-through.  Kathleen Millar will dissect it in
  detail to give archers a chance to re-evaluate how they have been approac
 hing this important part of the Ten Basic Steps to Good Shooting (basis of
  all good archery form).\n\nPlease contact Kathleen via e-mail to pre-regi
 ster (compulsory):  info@southnationarchery.com\n\nClass size is limited.
CATEGORIES:Advanced adult,Advanced youth,Class
LOCATION:South Nation Archery Supply\, 11667 Holmes Rd.\, Winchester\, ON\,
  Canada\, K0C 2K0\, Canada
GEO:45.0538545;-75.3865227
X-APPLE-STRUCTURED-LOCATION;VALUE=URI;X-ADDRESS=11667 Holmes Rd.\, Winchest
 er\, ON\, Canada\, K0C 2K0\, Canada;X-APPLE-RADIUS=100;X-TITLE=South Natio
 n Archery Supply:geo:45.0538545,-75.3865227
END:VEVENT
BEGIN:VTIMEZONE
TZID:America/Toronto
X-LIC-LOCATION:America/Toronto
BEGIN:STANDARD
DTSTART:20221106T010000
TZOFFSETFROM:-0400
TZOFFSETTO:-0500
TZNAME:EST
END:STANDARD
END:VTIMEZONE
END:VCALENDAR