BEGIN:VCALENDAR
VERSION:2.0
PRODID:-//wp-events-plugin.com//7.2.3.1//EN
TZID:America/Toronto
X-WR-TIMEZONE:America/Toronto
BEGIN:VEVENT
UID:333@southnationarchery.com
DTSTART;TZID=America/Toronto:20130105T100000
DTEND;TZID=America/Toronto:20130330T130000
DTSTAMP:20121219T171745Z
URL:https://www.southnationarchery.com/events/2013-snac-leagues/
SUMMARY:2013 SNAC Leagues - Saturday mornings
DESCRIPTION:Indoor leagues at SNAC run Saturday mornings and Monday evening
 s.\n\nJoin us for the 30-arrow FITA18M leagues to chase away those winter 
 indoor blues!\n\nLeague fees are $7 for adults and $4 for youth 16-years o
 f age and younger.\n\nDon't forget to sign up for national and provincial 
 mailmatches\, too.\n\nFees: $20/person\n\nNOTE: For 2013\, Saturday league
 s will start at 10AM\, not 9AM.  Monday night leagues start any time afte
 r 5pm.
LOCATION:South Nation Archery Supply\, 11667 Holmes Rd.\, Winchester\, ON\,
  Canada\, K0C 2K0\, Canada
GEO:45.0538545;-75.3865227
X-APPLE-STRUCTURED-LOCATION;VALUE=URI;X-ADDRESS=11667 Holmes Rd.\, Winchest
 er\, ON\, Canada\, K0C 2K0\, Canada;X-APPLE-RADIUS=100;X-TITLE=South Natio
 n Archery Supply:geo:45.0538545,-75.3865227
END:VEVENT
BEGIN:VTIMEZONE
TZID:America/Toronto
X-LIC-LOCATION:America/Toronto
BEGIN:STANDARD
DTSTART:20121104T010000
TZOFFSETFROM:-0400
TZOFFSETTO:-0500
TZNAME:EST
END:STANDARD
BEGIN:DAYLIGHT
DTSTART:20130310T030000
TZOFFSETFROM:-0500
TZOFFSETTO:-0400
TZNAME:EDT
END:DAYLIGHT
END:VTIMEZONE
END:VCALENDAR