BEGIN:VCALENDAR
VERSION:2.0
PRODID:-//wp-events-plugin.com//7.2.3.1//EN
TZID:America/Toronto
X-WR-TIMEZONE:America/Toronto
BEGIN:VEVENT
UID:337@southnationarchery.com
DTSTART;TZID=America/Toronto:20130127T140000
DTEND;TZID=America/Toronto:20130127T170000
DTSTAMP:20121220T180551Z
URL:https://www.southnationarchery.com/events/2013-ifaa-indoor-champs-2pm/
SUMMARY:2013 IFAA Indoor Champs - 2pm
DESCRIPTION:South Nation Archery Club is pleased host Ontario's regional IF
 AA indoor target championship again this year.\n\nThere will be two starti
 ng times on Sunday\, January 27\, 2013: 10am and 2pm (10:00 and 14:00). If
  a third starting time is required\, information will be posted on our web
 site for a 6pm line (18:00).\n\nOfficial practice will start 1 hour before
  starting times.\n\nPlease pre-register. Space is limited\; first-come-fir
 st-served.\n\nSNAC will not pre-register more than ONE shooting time per a
 rcher. ONLY if space allows\, will an archer be accommodated who has pre-r
 egistered once and who wishes to shoot again\, in accordance with the rule
 s.\n\nFor 2012-2013: Adult tournament fees are $20\; 16-years and under fe
 es are $10.
LOCATION:South Nation Archery Supply\, 11667 Holmes Rd.\, Winchester\, ON\,
  Canada\, K0C 2K0\, Canada
GEO:45.0538545;-75.3865227
X-APPLE-STRUCTURED-LOCATION;VALUE=URI;X-ADDRESS=11667 Holmes Rd.\, Winchest
 er\, ON\, Canada\, K0C 2K0\, Canada;X-APPLE-RADIUS=100;X-TITLE=South Natio
 n Archery Supply:geo:45.0538545,-75.3865227
END:VEVENT
BEGIN:VTIMEZONE
TZID:America/Toronto
X-LIC-LOCATION:America/Toronto
BEGIN:STANDARD
DTSTART:20121104T010000
TZOFFSETFROM:-0400
TZOFFSETTO:-0500
TZNAME:EST
END:STANDARD
END:VTIMEZONE
END:VCALENDAR