BEGIN:VCALENDAR
VERSION:2.0
PRODID:-//wp-events-plugin.com//7.2.3.1//EN
TZID:America/Toronto
X-WR-TIMEZONE:America/Toronto
BEGIN:VEVENT
UID:332@southnationarchery.com
DTSTART;TZID=America/Toronto:20130105T100000
DTEND;TZID=America/Toronto:20130330T130000
DTSTAMP:20121219T171544Z
URL:https://www.southnationarchery.com/events/2013-archery-canada-mailmatc
 hes/
SUMMARY:2013 Archery Canada mailmatches - Saturday mornings
DESCRIPTION:Join us for the extra challenge of national-level mailmatches t
 his winter. SNAC holds mailmatches with leagues on Saturday mornings start
 ing at 10am and on Monday evenings.  The cost is $7 per shooting time.\n\
 nThe Mail Match consists of an Individual event using the Canadian 300 rou
 nd. Dates at SNAC are January 05\, 2013 to March 30\, 2013.\n\nRemember th
 at you need to be an Archery Canada/OAA member and pay the national/provin
 cial mailmatch administration fee of $20 per person to SNAC.\n\nWe look fo
 rward to seeing you this winter.
LOCATION:South Nation Archery Supply\, 11667 Holmes Rd.\, Winchester\, ON\,
  Canada\, K0C 2K0\, Canada
GEO:45.0538545;-75.3865227
X-APPLE-STRUCTURED-LOCATION;VALUE=URI;X-ADDRESS=11667 Holmes Rd.\, Winchest
 er\, ON\, Canada\, K0C 2K0\, Canada;X-APPLE-RADIUS=100;X-TITLE=South Natio
 n Archery Supply:geo:45.0538545,-75.3865227
END:VEVENT
BEGIN:VTIMEZONE
TZID:America/Toronto
X-LIC-LOCATION:America/Toronto
BEGIN:STANDARD
DTSTART:20121104T010000
TZOFFSETFROM:-0400
TZOFFSETTO:-0500
TZNAME:EST
END:STANDARD
BEGIN:DAYLIGHT
DTSTART:20130310T030000
TZOFFSETFROM:-0500
TZOFFSETTO:-0400
TZNAME:EDT
END:DAYLIGHT
END:VTIMEZONE
END:VCALENDAR